BEGIN:VCALENDAR
VERSION:2.0
PRODID:-//Die Deantnerin - ECPv6.15.20//NONSGML v1.0//EN
CALSCALE:GREGORIAN
METHOD:PUBLISH
X-WR-CALNAME:Die Deantnerin
X-ORIGINAL-URL:https://events.deantnerin.at
X-WR-CALDESC:Veranstaltungen für Die Deantnerin
REFRESH-INTERVAL;VALUE=DURATION:PT1H
X-Robots-Tag:noindex
X-PUBLISHED-TTL:PT1H
BEGIN:VTIMEZONE
TZID:Europe/Vienna
BEGIN:DAYLIGHT
TZOFFSETFROM:+0100
TZOFFSETTO:+0200
TZNAME:CEST
DTSTART:20230326T010000
END:DAYLIGHT
BEGIN:STANDARD
TZOFFSETFROM:+0200
TZOFFSETTO:+0100
TZNAME:CET
DTSTART:20231029T010000
END:STANDARD
BEGIN:DAYLIGHT
TZOFFSETFROM:+0100
TZOFFSETTO:+0200
TZNAME:CEST
DTSTART:20240331T010000
END:DAYLIGHT
BEGIN:STANDARD
TZOFFSETFROM:+0200
TZOFFSETTO:+0100
TZNAME:CET
DTSTART:20241027T010000
END:STANDARD
BEGIN:DAYLIGHT
TZOFFSETFROM:+0100
TZOFFSETTO:+0200
TZNAME:CEST
DTSTART:20250330T010000
END:DAYLIGHT
BEGIN:STANDARD
TZOFFSETFROM:+0200
TZOFFSETTO:+0100
TZNAME:CET
DTSTART:20251026T010000
END:STANDARD
BEGIN:DAYLIGHT
TZOFFSETFROM:+0100
TZOFFSETTO:+0200
TZNAME:CEST
DTSTART:20260329T010000
END:DAYLIGHT
BEGIN:STANDARD
TZOFFSETFROM:+0200
TZOFFSETTO:+0100
TZNAME:CET
DTSTART:20261025T010000
END:STANDARD
END:VTIMEZONE
BEGIN:VEVENT
DTSTART;VALUE=DATE:20250830
DTEND;VALUE=DATE:20250831
DTSTAMP:20260421T145623
CREATED:20250801T130031Z
LAST-MODIFIED:20250801T130031Z
UID:10000131-1756512000-1756598399@events.deantnerin.at
SUMMARY:Hochzeit
DESCRIPTION:„Denn nur der ist reich\, der geliebt wird und lieben darf.“ Adalbert Stifter
URL:https://events.deantnerin.at/event/hochzeit-26/
LOCATION:Deantnerin\, Bürglalmweg 25\, Dienten am Hochkönig\, 5652\, Österreich
ATTACH;FMTTYPE=image/jpeg:https://events.deantnerin.at/wp-content/uploads/2021/07/die-deantnerin-in-dienten-am-hochkoenig-medium-26.jpg
ORGANIZER;CN="Deantnerin":MAILTO:office@diedeantnerin.at
GEO:47.3850725;13.0166771
X-APPLE-STRUCTURED-LOCATION;VALUE=URI;X-ADDRESS=Deantnerin Bürglalmweg 25 Dienten am Hochkönig 5652 Österreich;X-APPLE-RADIUS=500;X-TITLE=Bürglalmweg 25:geo:13.0166771,47.3850725
END:VEVENT
BEGIN:VEVENT
DTSTART;VALUE=DATE:20250829
DTEND;VALUE=DATE:20250830
DTSTAMP:20260421T145623
CREATED:20250801T125911Z
LAST-MODIFIED:20250801T125911Z
UID:10000130-1756425600-1756511999@events.deantnerin.at
SUMMARY:Hochzeit
DESCRIPTION:„Denn nur der ist reich\, der geliebt wird und lieben darf.“ Adalbert Stifter
URL:https://events.deantnerin.at/event/hochzeit-25/
LOCATION:Deantnerin\, Bürglalmweg 25\, Dienten am Hochkönig\, 5652\, Österreich
ATTACH;FMTTYPE=image/jpeg:https://events.deantnerin.at/wp-content/uploads/2021/07/20201014_092103-scaled.jpg
ORGANIZER;CN="Deantnerin":MAILTO:office@diedeantnerin.at
GEO:47.3850725;13.0166771
X-APPLE-STRUCTURED-LOCATION;VALUE=URI;X-ADDRESS=Deantnerin Bürglalmweg 25 Dienten am Hochkönig 5652 Österreich;X-APPLE-RADIUS=500;X-TITLE=Bürglalmweg 25:geo:13.0166771,47.3850725
END:VEVENT
BEGIN:VEVENT
DTSTART;VALUE=DATE:20250823
DTEND;VALUE=DATE:20250824
DTSTAMP:20260421T145623
CREATED:20250801T125735Z
LAST-MODIFIED:20250801T125735Z
UID:10000129-1755907200-1755993599@events.deantnerin.at
SUMMARY:Hochzeit
DESCRIPTION:„Denn nur der ist reich\, der geliebt wird und lieben darf.“ Adalbert Stifter
URL:https://events.deantnerin.at/event/hochzeit-24/
LOCATION:Deantnerin\, Bürglalmweg 25\, Dienten am Hochkönig\, 5652\, Österreich
ATTACH;FMTTYPE=image/jpeg:https://events.deantnerin.at/wp-content/uploads/2021/07/creek-running-through-a-mountain-valley-FH8CG5Q-scaled.jpg
ORGANIZER;CN="Deantnerin":MAILTO:office@diedeantnerin.at
GEO:47.3850725;13.0166771
X-APPLE-STRUCTURED-LOCATION;VALUE=URI;X-ADDRESS=Deantnerin Bürglalmweg 25 Dienten am Hochkönig 5652 Österreich;X-APPLE-RADIUS=500;X-TITLE=Bürglalmweg 25:geo:13.0166771,47.3850725
END:VEVENT
BEGIN:VEVENT
DTSTART;VALUE=DATE:20250822
DTEND;VALUE=DATE:20250823
DTSTAMP:20260421T145623
CREATED:20250801T125432Z
LAST-MODIFIED:20250801T125432Z
UID:10000128-1755820800-1755907199@events.deantnerin.at
SUMMARY:Hochzeit
DESCRIPTION:„Denn nur der ist reich\, der geliebt wird und lieben darf.“ Adalbert Stifter
URL:https://events.deantnerin.at/event/hochzeit-23/
LOCATION:Deantnerin\, Bürglalmweg 25\, Dienten am Hochkönig\, 5652\, Österreich
ATTACH;FMTTYPE=image/jpeg:https://events.deantnerin.at/wp-content/uploads/2021/07/IMG-20201114-WA0017.jpg
ORGANIZER;CN="Deantnerin":MAILTO:office@diedeantnerin.at
GEO:47.3850725;13.0166771
X-APPLE-STRUCTURED-LOCATION;VALUE=URI;X-ADDRESS=Deantnerin Bürglalmweg 25 Dienten am Hochkönig 5652 Österreich;X-APPLE-RADIUS=500;X-TITLE=Bürglalmweg 25:geo:13.0166771,47.3850725
END:VEVENT
BEGIN:VEVENT
DTSTART;VALUE=DATE:20250816
DTEND;VALUE=DATE:20250817
DTSTAMP:20260421T145623
CREATED:20250801T125218Z
LAST-MODIFIED:20250801T125218Z
UID:10000127-1755302400-1755388799@events.deantnerin.at
SUMMARY:Hochzeit
DESCRIPTION:„Denn nur der ist reich\, der geliebt wird und lieben darf.“ Adalbert Stifter
URL:https://events.deantnerin.at/event/hochzeit-22/
LOCATION:Deantnerin\, Bürglalmweg 25\, Dienten am Hochkönig\, 5652\, Österreich
ATTACH;FMTTYPE=image/jpeg:https://events.deantnerin.at/wp-content/uploads/2021/07/die-deantnerin-in-dienten-am-hochkoenig-medium-34.jpg
ORGANIZER;CN="Deantnerin":MAILTO:office@diedeantnerin.at
GEO:47.3850725;13.0166771
X-APPLE-STRUCTURED-LOCATION;VALUE=URI;X-ADDRESS=Deantnerin Bürglalmweg 25 Dienten am Hochkönig 5652 Österreich;X-APPLE-RADIUS=500;X-TITLE=Bürglalmweg 25:geo:13.0166771,47.3850725
END:VEVENT
BEGIN:VEVENT
DTSTART;VALUE=DATE:20250815
DTEND;VALUE=DATE:20250816
DTSTAMP:20260421T145623
CREATED:20250801T125042Z
LAST-MODIFIED:20250801T125042Z
UID:10000126-1755216000-1755302399@events.deantnerin.at
SUMMARY:Hochzeit
DESCRIPTION:„Denn nur der ist reich\, der geliebt wird und lieben darf.“ Adalbert Stifter
URL:https://events.deantnerin.at/event/hochzeit-21/
LOCATION:Deantnerin\, Bürglalmweg 25\, Dienten am Hochkönig\, 5652\, Österreich
ATTACH;FMTTYPE=image/jpeg:https://events.deantnerin.at/wp-content/uploads/2021/07/die-deantnerin-in-dienten-am-hochkoenig-medium-26.jpg
ORGANIZER;CN="Deantnerin":MAILTO:office@diedeantnerin.at
GEO:47.3850725;13.0166771
X-APPLE-STRUCTURED-LOCATION;VALUE=URI;X-ADDRESS=Deantnerin Bürglalmweg 25 Dienten am Hochkönig 5652 Österreich;X-APPLE-RADIUS=500;X-TITLE=Bürglalmweg 25:geo:13.0166771,47.3850725
END:VEVENT
BEGIN:VEVENT
DTSTART;VALUE=DATE:20250814
DTEND;VALUE=DATE:20250815
DTSTAMP:20260421T145623
CREATED:20250801T124936Z
LAST-MODIFIED:20250801T124936Z
UID:10000125-1755129600-1755215999@events.deantnerin.at
SUMMARY:Hochzeit
DESCRIPTION:„Denn nur der ist reich\, der geliebt wird und lieben darf.“ Adalbert Stifter
URL:https://events.deantnerin.at/event/hochzeit-20/
LOCATION:Deantnerin\, Bürglalmweg 25\, Dienten am Hochkönig\, 5652\, Österreich
ATTACH;FMTTYPE=image/jpeg:https://events.deantnerin.at/wp-content/uploads/2021/07/20201009_152609-scaled.jpg
ORGANIZER;CN="Deantnerin":MAILTO:office@diedeantnerin.at
GEO:47.3850725;13.0166771
X-APPLE-STRUCTURED-LOCATION;VALUE=URI;X-ADDRESS=Deantnerin Bürglalmweg 25 Dienten am Hochkönig 5652 Österreich;X-APPLE-RADIUS=500;X-TITLE=Bürglalmweg 25:geo:13.0166771,47.3850725
END:VEVENT
BEGIN:VEVENT
DTSTART;VALUE=DATE:20250808
DTEND;VALUE=DATE:20250809
DTSTAMP:20260421T145623
CREATED:20250801T081950Z
LAST-MODIFIED:20250801T081950Z
UID:10000123-1754611200-1754697599@events.deantnerin.at
SUMMARY:Hochzeit
DESCRIPTION:„Denn nur der ist reich\, der geliebt wird und lieben darf.“ Adalbert Stifter
URL:https://events.deantnerin.at/event/hochzeit-18/
LOCATION:Deantnerin\, Bürglalmweg 25\, Dienten am Hochkönig\, 5652\, Österreich
ATTACH;FMTTYPE=image/jpeg:https://events.deantnerin.at/wp-content/uploads/2021/07/die-deantnerin-in-dienten-am-hochkoenig-medium-34.jpg
ORGANIZER;CN="Deantnerin":MAILTO:office@diedeantnerin.at
GEO:47.3850725;13.0166771
X-APPLE-STRUCTURED-LOCATION;VALUE=URI;X-ADDRESS=Deantnerin Bürglalmweg 25 Dienten am Hochkönig 5652 Österreich;X-APPLE-RADIUS=500;X-TITLE=Bürglalmweg 25:geo:13.0166771,47.3850725
END:VEVENT
BEGIN:VEVENT
DTSTART;VALUE=DATE:20250802
DTEND;VALUE=DATE:20250803
DTSTAMP:20260421T145623
CREATED:20250801T081758Z
LAST-MODIFIED:20250801T081758Z
UID:10000122-1754092800-1754179199@events.deantnerin.at
SUMMARY:Hochzeit
DESCRIPTION:„Denn nur der ist reich\, der geliebt wird und lieben darf.“ Adalbert Stifter
URL:https://events.deantnerin.at/event/hochzeit-17/
LOCATION:Deantnerin\, Bürglalmweg 25\, Dienten am Hochkönig\, 5652\, Österreich
ATTACH;FMTTYPE=image/jpeg:https://events.deantnerin.at/wp-content/uploads/2021/07/Die-Deantnerin.jpg
ORGANIZER;CN="Deantnerin":MAILTO:office@diedeantnerin.at
GEO:47.3850725;13.0166771
X-APPLE-STRUCTURED-LOCATION;VALUE=URI;X-ADDRESS=Deantnerin Bürglalmweg 25 Dienten am Hochkönig 5652 Österreich;X-APPLE-RADIUS=500;X-TITLE=Bürglalmweg 25:geo:13.0166771,47.3850725
END:VEVENT
BEGIN:VEVENT
DTSTART;VALUE=DATE:20250801
DTEND;VALUE=DATE:20250802
DTSTAMP:20260421T145623
CREATED:20250801T081633Z
LAST-MODIFIED:20250801T081633Z
UID:10000121-1754006400-1754092799@events.deantnerin.at
SUMMARY:Hochzeit
DESCRIPTION:„Denn nur der ist reich\, der geliebt wird und lieben darf.“ Adalbert Stifter
URL:https://events.deantnerin.at/event/hochzeit-16/
LOCATION:Deantnerin\, Bürglalmweg 25\, Dienten am Hochkönig\, 5652\, Österreich
ATTACH;FMTTYPE=image/jpeg:https://events.deantnerin.at/wp-content/uploads/2021/07/weddingday-607-scaled.jpg
ORGANIZER;CN="Deantnerin":MAILTO:office@diedeantnerin.at
GEO:47.3850725;13.0166771
X-APPLE-STRUCTURED-LOCATION;VALUE=URI;X-ADDRESS=Deantnerin Bürglalmweg 25 Dienten am Hochkönig 5652 Österreich;X-APPLE-RADIUS=500;X-TITLE=Bürglalmweg 25:geo:13.0166771,47.3850725
END:VEVENT
BEGIN:VEVENT
DTSTART;VALUE=DATE:20250621
DTEND;VALUE=DATE:20250622
DTSTAMP:20260421T145623
CREATED:20250603T123540Z
LAST-MODIFIED:20250715T143703Z
UID:10000120-1750464000-1750550399@events.deantnerin.at
SUMMARY:Hochzeit
DESCRIPTION:„Denn nur der ist reich\, der geliebt wird und lieben darf.“ Adalbert Stifter
URL:https://events.deantnerin.at/event/hochzeit-15/
LOCATION:Deantnerin\, Bürglalmweg 25\, Dienten am Hochkönig\, 5652\, Österreich
ATTACH;FMTTYPE=image/jpeg:https://events.deantnerin.at/wp-content/uploads/2021/07/IMG-20201114-WA0017.jpg
ORGANIZER;CN="Deantnerin":MAILTO:office@diedeantnerin.at
GEO:47.3850725;13.0166771
X-APPLE-STRUCTURED-LOCATION;VALUE=URI;X-ADDRESS=Deantnerin Bürglalmweg 25 Dienten am Hochkönig 5652 Österreich;X-APPLE-RADIUS=500;X-TITLE=Bürglalmweg 25:geo:13.0166771,47.3850725
END:VEVENT
BEGIN:VEVENT
DTSTART;VALUE=DATE:20250620
DTEND;VALUE=DATE:20250621
DTSTAMP:20260421T145623
CREATED:20250603T123430Z
LAST-MODIFIED:20250715T143651Z
UID:10000119-1750377600-1750463999@events.deantnerin.at
SUMMARY:Hochzeit
DESCRIPTION:„Denn nur der ist reich\, der geliebt wird und lieben darf.“ Adalbert Stifter
URL:https://events.deantnerin.at/event/hochzeit-14/
LOCATION:Deantnerin\, Bürglalmweg 25\, Dienten am Hochkönig\, 5652\, Österreich
ATTACH;FMTTYPE=image/jpeg:https://events.deantnerin.at/wp-content/uploads/2021/07/Die-Deantnerin.jpg
ORGANIZER;CN="Deantnerin":MAILTO:office@diedeantnerin.at
GEO:47.3850725;13.0166771
X-APPLE-STRUCTURED-LOCATION;VALUE=URI;X-ADDRESS=Deantnerin Bürglalmweg 25 Dienten am Hochkönig 5652 Österreich;X-APPLE-RADIUS=500;X-TITLE=Bürglalmweg 25:geo:13.0166771,47.3850725
END:VEVENT
BEGIN:VEVENT
DTSTART;VALUE=DATE:20250614
DTEND;VALUE=DATE:20250615
DTSTAMP:20260421T145623
CREATED:20250603T123254Z
LAST-MODIFIED:20250715T143639Z
UID:10000118-1749859200-1749945599@events.deantnerin.at
SUMMARY:Hochzeit
DESCRIPTION:„Denn nur der ist reich\, der geliebt wird und lieben darf.“ Adalbert Stifter
URL:https://events.deantnerin.at/event/hochzeit-13/
LOCATION:Deantnerin\, Bürglalmweg 25\, Dienten am Hochkönig\, 5652\, Österreich
ATTACH;FMTTYPE=image/jpeg:https://events.deantnerin.at/wp-content/uploads/2021/07/20201009_152609-scaled.jpg
ORGANIZER;CN="Deantnerin":MAILTO:office@diedeantnerin.at
GEO:47.3850725;13.0166771
X-APPLE-STRUCTURED-LOCATION;VALUE=URI;X-ADDRESS=Deantnerin Bürglalmweg 25 Dienten am Hochkönig 5652 Österreich;X-APPLE-RADIUS=500;X-TITLE=Bürglalmweg 25:geo:13.0166771,47.3850725
END:VEVENT
BEGIN:VEVENT
DTSTART;VALUE=DATE:20250606
DTEND;VALUE=DATE:20250607
DTSTAMP:20260421T145623
CREATED:20250602T164655Z
LAST-MODIFIED:20250715T143622Z
UID:10000117-1749168000-1749254399@events.deantnerin.at
SUMMARY:Hochzeit
DESCRIPTION:„Denn nur der ist reich\, der geliebt wird und lieben darf.“ Adalbert Stifter
URL:https://events.deantnerin.at/event/hochzeit-12/
LOCATION:Deantnerin\, Bürglalmweg 25\, Dienten am Hochkönig\, 5652\, Österreich
ATTACH;FMTTYPE=image/jpeg:https://events.deantnerin.at/wp-content/uploads/2021/07/weddingday-607-scaled.jpg
ORGANIZER;CN="Deantnerin":MAILTO:office@diedeantnerin.at
GEO:47.3850725;13.0166771
X-APPLE-STRUCTURED-LOCATION;VALUE=URI;X-ADDRESS=Deantnerin Bürglalmweg 25 Dienten am Hochkönig 5652 Österreich;X-APPLE-RADIUS=500;X-TITLE=Bürglalmweg 25:geo:13.0166771,47.3850725
END:VEVENT
BEGIN:VEVENT
DTSTART;VALUE=DATE:20241012
DTEND;VALUE=DATE:20241013
DTSTAMP:20260421T145623
CREATED:20240802T222900Z
LAST-MODIFIED:20250715T143611Z
UID:10000066-1728691200-1728777599@events.deantnerin.at
SUMMARY:Hochzeit
DESCRIPTION:„Denn nur der ist reich\, der geliebt wird und lieben darf.“\nAdalbert Stifter
URL:https://events.deantnerin.at/event/hochzeit-60/
LOCATION:Deantnerin\, Bürglalmweg 25\, Dienten am Hochkönig\, 5652\, Österreich
ATTACH;FMTTYPE=image/jpeg:https://events.deantnerin.at/wp-content/uploads/2021/07/Die-Deantnerin.jpg
ORGANIZER;CN="Deantnerin":MAILTO:office@diedeantnerin.at
GEO:47.3850725;13.0166771
X-APPLE-STRUCTURED-LOCATION;VALUE=URI;X-ADDRESS=Deantnerin Bürglalmweg 25 Dienten am Hochkönig 5652 Österreich;X-APPLE-RADIUS=500;X-TITLE=Bürglalmweg 25:geo:13.0166771,47.3850725
END:VEVENT
BEGIN:VEVENT
DTSTART;VALUE=DATE:20241005
DTEND;VALUE=DATE:20241006
DTSTAMP:20260421T145623
CREATED:20240802T222648Z
LAST-MODIFIED:20250715T143517Z
UID:10000064-1728086400-1728172799@events.deantnerin.at
SUMMARY:Hochzeit
DESCRIPTION:„Denn nur der ist reich\, der geliebt wird und lieben darf.“\nAdalbert Stifter
URL:https://events.deantnerin.at/event/hochzeit-59/
LOCATION:Deantnerin\, Bürglalmweg 25\, Dienten am Hochkönig\, 5652\, Österreich
ATTACH;FMTTYPE=image/jpeg:https://events.deantnerin.at/wp-content/uploads/2021/07/die-deantnerin-in-dienten-am-hochkoenig-medium-34.jpg
ORGANIZER;CN="Deantnerin":MAILTO:office@diedeantnerin.at
GEO:47.3850725;13.0166771
X-APPLE-STRUCTURED-LOCATION;VALUE=URI;X-ADDRESS=Deantnerin Bürglalmweg 25 Dienten am Hochkönig 5652 Österreich;X-APPLE-RADIUS=500;X-TITLE=Bürglalmweg 25:geo:13.0166771,47.3850725
END:VEVENT
BEGIN:VEVENT
DTSTART;VALUE=DATE:20241004
DTEND;VALUE=DATE:20241005
DTSTAMP:20260421T145623
CREATED:20240802T222750Z
LAST-MODIFIED:20250715T143553Z
UID:10000065-1728000000-1728086399@events.deantnerin.at
SUMMARY:Event
DESCRIPTION:Quetschenakademie
URL:https://events.deantnerin.at/event/event/
LOCATION:Deantnerin\, Bürglalmweg 25\, Dienten am Hochkönig\, 5652\, Österreich
ATTACH;FMTTYPE=image/png:https://events.deantnerin.at/wp-content/uploads/2021/07/deantnerin.png
ORGANIZER;CN="Deantnerin":MAILTO:office@diedeantnerin.at
GEO:47.3850725;13.0166771
X-APPLE-STRUCTURED-LOCATION;VALUE=URI;X-ADDRESS=Deantnerin Bürglalmweg 25 Dienten am Hochkönig 5652 Österreich;X-APPLE-RADIUS=500;X-TITLE=Bürglalmweg 25:geo:13.0166771,47.3850725
END:VEVENT
BEGIN:VEVENT
DTSTART;VALUE=DATE:20240928
DTEND;VALUE=DATE:20240929
DTSTAMP:20260421T145623
CREATED:20240802T222535Z
LAST-MODIFIED:20250715T143504Z
UID:10000063-1727481600-1727567999@events.deantnerin.at
SUMMARY:Hochzeit
DESCRIPTION:„Denn nur der ist reich\, der geliebt wird und lieben darf.“\nAdalbert Stifter
URL:https://events.deantnerin.at/event/hochzeit-58/
LOCATION:Deantnerin\, Bürglalmweg 25\, Dienten am Hochkönig\, 5652\, Österreich
ATTACH;FMTTYPE=image/jpeg:https://events.deantnerin.at/wp-content/uploads/2021/07/Fotolia_122172245_L.jpg
ORGANIZER;CN="Deantnerin":MAILTO:office@diedeantnerin.at
GEO:47.3850725;13.0166771
X-APPLE-STRUCTURED-LOCATION;VALUE=URI;X-ADDRESS=Deantnerin Bürglalmweg 25 Dienten am Hochkönig 5652 Österreich;X-APPLE-RADIUS=500;X-TITLE=Bürglalmweg 25:geo:13.0166771,47.3850725
END:VEVENT
BEGIN:VEVENT
DTSTART;VALUE=DATE:20240921
DTEND;VALUE=DATE:20240922
DTSTAMP:20260421T145623
CREATED:20240802T222427Z
LAST-MODIFIED:20250715T143451Z
UID:10000062-1726876800-1726963199@events.deantnerin.at
SUMMARY:Hochzeit
DESCRIPTION:„Denn nur der ist reich\, der geliebt wird und lieben darf.“\nAdalbert Stifter
URL:https://events.deantnerin.at/event/hochzeit-57/
LOCATION:Deantnerin\, Bürglalmweg 25\, Dienten am Hochkönig\, 5652\, Österreich
ATTACH;FMTTYPE=image/jpeg:https://events.deantnerin.at/wp-content/uploads/2021/07/die-deantnerin-in-dienten-am-hochkoenig-medium-24.jpg
ORGANIZER;CN="Deantnerin":MAILTO:office@diedeantnerin.at
GEO:47.3850725;13.0166771
X-APPLE-STRUCTURED-LOCATION;VALUE=URI;X-ADDRESS=Deantnerin Bürglalmweg 25 Dienten am Hochkönig 5652 Österreich;X-APPLE-RADIUS=500;X-TITLE=Bürglalmweg 25:geo:13.0166771,47.3850725
END:VEVENT
BEGIN:VEVENT
DTSTART;VALUE=DATE:20240914
DTEND;VALUE=DATE:20240915
DTSTAMP:20260421T145623
CREATED:20240802T222323Z
LAST-MODIFIED:20250715T143439Z
UID:10000061-1726272000-1726358399@events.deantnerin.at
SUMMARY:Hochzeit
DESCRIPTION:„Denn nur der ist reich\, der geliebt wird und lieben darf.“\nAdalbert Stifter
URL:https://events.deantnerin.at/event/hochzeit-56/
LOCATION:Deantnerin\, Bürglalmweg 25\, Dienten am Hochkönig\, 5652\, Österreich
ATTACH;FMTTYPE=image/jpeg:https://events.deantnerin.at/wp-content/uploads/2021/07/weddingday-607-scaled.jpg
ORGANIZER;CN="Deantnerin":MAILTO:office@diedeantnerin.at
GEO:47.3850725;13.0166771
X-APPLE-STRUCTURED-LOCATION;VALUE=URI;X-ADDRESS=Deantnerin Bürglalmweg 25 Dienten am Hochkönig 5652 Österreich;X-APPLE-RADIUS=500;X-TITLE=Bürglalmweg 25:geo:13.0166771,47.3850725
END:VEVENT
BEGIN:VEVENT
DTSTART;VALUE=DATE:20240913
DTEND;VALUE=DATE:20240914
DTSTAMP:20260421T145623
CREATED:20240802T222232Z
LAST-MODIFIED:20250715T143419Z
UID:10000060-1726185600-1726271999@events.deantnerin.at
SUMMARY:Hochzeit
DESCRIPTION:„Denn nur der ist reich\, der geliebt wird und lieben darf.“\nAdalbert Stifter
URL:https://events.deantnerin.at/event/hochzeit-55/
LOCATION:Deantnerin\, Bürglalmweg 25\, Dienten am Hochkönig\, 5652\, Österreich
ATTACH;FMTTYPE=image/jpeg:https://events.deantnerin.at/wp-content/uploads/2021/07/IMG-20201114-WA0017.jpg
ORGANIZER;CN="Deantnerin":MAILTO:office@diedeantnerin.at
GEO:47.3850725;13.0166771
X-APPLE-STRUCTURED-LOCATION;VALUE=URI;X-ADDRESS=Deantnerin Bürglalmweg 25 Dienten am Hochkönig 5652 Österreich;X-APPLE-RADIUS=500;X-TITLE=Bürglalmweg 25:geo:13.0166771,47.3850725
END:VEVENT
BEGIN:VEVENT
DTSTART;VALUE=DATE:20240907
DTEND;VALUE=DATE:20240908
DTSTAMP:20260421T145623
CREATED:20240802T222116Z
LAST-MODIFIED:20250715T143403Z
UID:10000059-1725667200-1725753599@events.deantnerin.at
SUMMARY:Hochzeit
DESCRIPTION:„Denn nur der ist reich\, der geliebt wird und lieben darf.“\nAdalbert Stifter
URL:https://events.deantnerin.at/event/hochzeit-11/
LOCATION:Deantnerin\, Bürglalmweg 25\, Dienten am Hochkönig\, 5652\, Österreich
ATTACH;FMTTYPE=image/jpeg:https://events.deantnerin.at/wp-content/uploads/2021/07/20201014_092103-scaled.jpg
ORGANIZER;CN="Deantnerin":MAILTO:office@diedeantnerin.at
GEO:47.3850725;13.0166771
X-APPLE-STRUCTURED-LOCATION;VALUE=URI;X-ADDRESS=Deantnerin Bürglalmweg 25 Dienten am Hochkönig 5652 Österreich;X-APPLE-RADIUS=500;X-TITLE=Bürglalmweg 25:geo:13.0166771,47.3850725
END:VEVENT
BEGIN:VEVENT
DTSTART;VALUE=DATE:20240906
DTEND;VALUE=DATE:20240907
DTSTAMP:20260421T145623
CREATED:20240802T222002Z
LAST-MODIFIED:20250715T143351Z
UID:10000116-1725580800-1725667199@events.deantnerin.at
SUMMARY:Hochzeit
DESCRIPTION:„Denn nur der ist reich\, der geliebt wird und lieben darf.“\nAdalbert Stifter
URL:https://events.deantnerin.at/event/hochzeit-10/
LOCATION:Deantnerin\, Bürglalmweg 25\, Dienten am Hochkönig\, 5652\, Österreich
ATTACH;FMTTYPE=image/jpeg:https://events.deantnerin.at/wp-content/uploads/2021/07/cropped-die-deantnerin-in-dienten-am-hochkoenig-big-15.jpg
ORGANIZER;CN="Deantnerin":MAILTO:office@diedeantnerin.at
GEO:47.3850725;13.0166771
X-APPLE-STRUCTURED-LOCATION;VALUE=URI;X-ADDRESS=Deantnerin Bürglalmweg 25 Dienten am Hochkönig 5652 Österreich;X-APPLE-RADIUS=500;X-TITLE=Bürglalmweg 25:geo:13.0166771,47.3850725
END:VEVENT
BEGIN:VEVENT
DTSTART;VALUE=DATE:20240831
DTEND;VALUE=DATE:20240901
DTSTAMP:20260421T145623
CREATED:20240802T221840Z
LAST-MODIFIED:20250715T143340Z
UID:10000115-1725062400-1725148799@events.deantnerin.at
SUMMARY:Hochzeit
DESCRIPTION:„Denn nur der ist reich\, der geliebt wird und lieben darf.“\nAdalbert Stifter
URL:https://events.deantnerin.at/event/hochzeit-9/
LOCATION:Deantnerin\, Bürglalmweg 25\, Dienten am Hochkönig\, 5652\, Österreich
ATTACH;FMTTYPE=image/jpeg:https://events.deantnerin.at/wp-content/uploads/2021/07/die-deantnerin-in-dienten-am-hochkoenig-medium-24.jpg
ORGANIZER;CN="Deantnerin":MAILTO:office@diedeantnerin.at
GEO:47.3850725;13.0166771
X-APPLE-STRUCTURED-LOCATION;VALUE=URI;X-ADDRESS=Deantnerin Bürglalmweg 25 Dienten am Hochkönig 5652 Österreich;X-APPLE-RADIUS=500;X-TITLE=Bürglalmweg 25:geo:13.0166771,47.3850725
END:VEVENT
BEGIN:VEVENT
DTSTART;VALUE=DATE:20240830
DTEND;VALUE=DATE:20240831
DTSTAMP:20260421T145623
CREATED:20240802T221744Z
LAST-MODIFIED:20250715T143330Z
UID:10000114-1724976000-1725062399@events.deantnerin.at
SUMMARY:Hochzeit
DESCRIPTION:„Denn nur der ist reich\, der geliebt wird und lieben darf.“\nAdalbert Stifter
URL:https://events.deantnerin.at/event/hochzeit-8/
LOCATION:Deantnerin\, Bürglalmweg 25\, Dienten am Hochkönig\, 5652\, Österreich
ATTACH;FMTTYPE=image/jpeg:https://events.deantnerin.at/wp-content/uploads/2021/07/cropped-flowers-in-the-mountains-MBF2X3H-scaled-1.jpg
ORGANIZER;CN="Deantnerin":MAILTO:office@diedeantnerin.at
GEO:47.3850725;13.0166771
X-APPLE-STRUCTURED-LOCATION;VALUE=URI;X-ADDRESS=Deantnerin Bürglalmweg 25 Dienten am Hochkönig 5652 Österreich;X-APPLE-RADIUS=500;X-TITLE=Bürglalmweg 25:geo:13.0166771,47.3850725
END:VEVENT
BEGIN:VEVENT
DTSTART;VALUE=DATE:20240824
DTEND;VALUE=DATE:20240825
DTSTAMP:20260421T145623
CREATED:20240802T221647Z
LAST-MODIFIED:20250715T143313Z
UID:10000113-1724457600-1724543999@events.deantnerin.at
SUMMARY:Hochzeit
DESCRIPTION:„Denn nur der ist reich\, der geliebt wird und lieben darf.“\nAdalbert Stifter
URL:https://events.deantnerin.at/event/hochzeit-7/
LOCATION:Deantnerin\, Bürglalmweg 25\, Dienten am Hochkönig\, 5652\, Österreich
ATTACH;FMTTYPE=image/jpeg:https://events.deantnerin.at/wp-content/uploads/2021/07/15994874_365836573791229_3222693483694605178_o.jpg
ORGANIZER;CN="Deantnerin":MAILTO:office@diedeantnerin.at
GEO:47.3850725;13.0166771
X-APPLE-STRUCTURED-LOCATION;VALUE=URI;X-ADDRESS=Deantnerin Bürglalmweg 25 Dienten am Hochkönig 5652 Österreich;X-APPLE-RADIUS=500;X-TITLE=Bürglalmweg 25:geo:13.0166771,47.3850725
END:VEVENT
BEGIN:VEVENT
DTSTART;VALUE=DATE:20240823
DTEND;VALUE=DATE:20240824
DTSTAMP:20260421T145623
CREATED:20240802T221602Z
LAST-MODIFIED:20250715T143301Z
UID:10000112-1724371200-1724457599@events.deantnerin.at
SUMMARY:Hochzeit
DESCRIPTION:„Denn nur der ist reich\, der geliebt wird und lieben darf.“\nAdalbert Stifter
URL:https://events.deantnerin.at/event/hochzeit-6/
LOCATION:Deantnerin\, Bürglalmweg 25\, Dienten am Hochkönig\, 5652\, Österreich
ATTACH;FMTTYPE=image/jpeg:https://events.deantnerin.at/wp-content/uploads/2021/07/20201009_152609-scaled.jpg
ORGANIZER;CN="Deantnerin":MAILTO:office@diedeantnerin.at
GEO:47.3850725;13.0166771
X-APPLE-STRUCTURED-LOCATION;VALUE=URI;X-ADDRESS=Deantnerin Bürglalmweg 25 Dienten am Hochkönig 5652 Österreich;X-APPLE-RADIUS=500;X-TITLE=Bürglalmweg 25:geo:13.0166771,47.3850725
END:VEVENT
BEGIN:VEVENT
DTSTART;VALUE=DATE:20240817
DTEND;VALUE=DATE:20240818
DTSTAMP:20260421T145623
CREATED:20240802T221444Z
LAST-MODIFIED:20250715T143249Z
UID:10000111-1723852800-1723939199@events.deantnerin.at
SUMMARY:Hochzeit
DESCRIPTION:„Denn nur der ist reich\, der geliebt wird und lieben darf.“\nAdalbert Stifter
URL:https://events.deantnerin.at/event/hochzeit-5/
LOCATION:Deantnerin\, Bürglalmweg 25\, Dienten am Hochkönig\, 5652\, Österreich
ATTACH;FMTTYPE=image/jpeg:https://events.deantnerin.at/wp-content/uploads/2021/07/die-deantnerin-in-dienten-am-hochkoenig-medium-26.jpg
ORGANIZER;CN="Deantnerin":MAILTO:office@diedeantnerin.at
GEO:47.3850725;13.0166771
X-APPLE-STRUCTURED-LOCATION;VALUE=URI;X-ADDRESS=Deantnerin Bürglalmweg 25 Dienten am Hochkönig 5652 Österreich;X-APPLE-RADIUS=500;X-TITLE=Bürglalmweg 25:geo:13.0166771,47.3850725
END:VEVENT
BEGIN:VEVENT
DTSTART;VALUE=DATE:20240816
DTEND;VALUE=DATE:20240817
DTSTAMP:20260421T145623
CREATED:20240802T221318Z
LAST-MODIFIED:20250715T143236Z
UID:10000110-1723766400-1723852799@events.deantnerin.at
SUMMARY:Hochzeit
DESCRIPTION:„Denn nur der ist reich\, der geliebt wird und lieben darf.“\nAdalbert Stifter
URL:https://events.deantnerin.at/event/hochzeit-4/
LOCATION:Deantnerin\, Bürglalmweg 25\, Dienten am Hochkönig\, 5652\, Österreich
ATTACH;FMTTYPE=image/jpeg:https://events.deantnerin.at/wp-content/uploads/2021/07/Die-Deantnerin.jpg
ORGANIZER;CN="Deantnerin":MAILTO:office@diedeantnerin.at
GEO:47.3850725;13.0166771
X-APPLE-STRUCTURED-LOCATION;VALUE=URI;X-ADDRESS=Deantnerin Bürglalmweg 25 Dienten am Hochkönig 5652 Österreich;X-APPLE-RADIUS=500;X-TITLE=Bürglalmweg 25:geo:13.0166771,47.3850725
END:VEVENT
BEGIN:VEVENT
DTSTART;VALUE=DATE:20240810
DTEND;VALUE=DATE:20240811
DTSTAMP:20260421T145623
CREATED:20240802T221206Z
LAST-MODIFIED:20250715T143224Z
UID:10000109-1723248000-1723334399@events.deantnerin.at
SUMMARY:Hochzeit
DESCRIPTION:„Denn nur der ist reich\, der geliebt wird und lieben darf.“\nAdalbert Stifter
URL:https://events.deantnerin.at/event/hochzeit-3/
LOCATION:Deantnerin\, Bürglalmweg 25\, Dienten am Hochkönig\, 5652\, Österreich
ATTACH;FMTTYPE=image/jpeg:https://events.deantnerin.at/wp-content/uploads/2021/07/die-deantnerin-in-dienten-am-hochkoenig-medium-34.jpg
ORGANIZER;CN="Deantnerin":MAILTO:office@diedeantnerin.at
GEO:47.3850725;13.0166771
X-APPLE-STRUCTURED-LOCATION;VALUE=URI;X-ADDRESS=Deantnerin Bürglalmweg 25 Dienten am Hochkönig 5652 Österreich;X-APPLE-RADIUS=500;X-TITLE=Bürglalmweg 25:geo:13.0166771,47.3850725
END:VEVENT
END:VCALENDAR